BEGIN:VCALENDAR
VERSION:2.0
PRODID:-//KTZV Michelbach - ECPv6.12.0.1//NONSGML v1.0//EN
CALSCALE:GREGORIAN
METHOD:PUBLISH
X-WR-CALNAME:KTZV Michelbach
X-ORIGINAL-URL:https://www.ktzv-michelbach.de
X-WR-CALDESC:Veranstaltungen für KTZV Michelbach
REFRESH-INTERVAL;VALUE=DURATION:PT1H
X-Robots-Tag:noindex
X-PUBLISHED-TTL:PT1H
BEGIN:VTIMEZONE
TZID:Europe/Helsinki
BEGIN:DAYLIGHT
TZOFFSETFROM:+0200
TZOFFSETTO:+0300
TZNAME:EEST
DTSTART:20250330T010000
END:DAYLIGHT
BEGIN:STANDARD
TZOFFSETFROM:+0300
TZOFFSETTO:+0200
TZNAME:EET
DTSTART:20251026T010000
END:STANDARD
END:VTIMEZONE
BEGIN:VEVENT
DTSTART;TZID=Europe/Helsinki:20250712T160000
DTEND;TZID=Europe/Helsinki:20250712T220000
DTSTAMP:20260420T175238
CREATED:20250518T103410Z
LAST-MODIFIED:20250518T104344Z
UID:125-1752336000-1752357600@www.ktzv-michelbach.de
SUMMARY:Sportplatzfest mit „Spiel und Spaß-Wettstreit“ sowie „Tauzieh-Wettbewerb“
DESCRIPTION:auch im Jahr 2025 möchten wir Sie zu unserem Sportplatzfest mit „Spiel und Spaß-Wettstreit“ sowie „Tauzieh-Wettbewerb“ einladen. Das Fest findet am Samstag\, 12.07.2025 statt.\nDie Veranstaltung beginnt um ca. 14 Uhr und die Wettkämpfe sollten bis ca. 20 Uhr beendet sein. Nach anschließender Siegerehrung wollen wir den Abend mit den Teilnehmern\, Zuschauern und Fans in geselliger Runde ausklingen lassen.\nFürs leibliche Wohl wird selbstverständlich gesorgt! \nBei „Spiel und Spaß“ werden lustige Spiele und Wettkämpfe\, bei denen Teamgeist gefragt ist\, durchgeführt. Dabei steht nicht nur sportliches Talent oder Muskelkraft im Vordergrund\, sondern Geschicklichkeit und Teamfähigkeit. Am wichtigsten ist jedoch der Spaß!\nEine Mannschaft umfasst 4 Spielerinnen bzw. Spieler plus 1-2 Auswechselspieler/innen.\nNatürlich sind auch gemischte Teams möglich. \nDie 1.Mannschaft der aktiven Fußballer des FSV Michelbach gewannen 2024 den Wanderpokal.\nLetztes Jahr war das „Team Marlies Buhmann-Friseure“ das einzige „reine“ Frauenteam\, deshalb freuen wir uns sehr\, wenn sich dieses Jahr noch ein mutiges Frauenteam anmeldet.
URL:https://www.ktzv-michelbach.de/veranstaltungen/sportplatzfest-mit-spiel-und-spass-wettstreit-sowie-tauzieh-wettbewerb/
LOCATION:FSV Michelbach – Kahltalhalle\, Steuweg\, Alzenau\, 63755
ATTACH;FMTTYPE=image/jpeg:https://www.ktzv-michelbach.de/wp-content/uploads/2025/05/lfgi25iD.jpg
ORGANIZER;CN="FSV 1920 Michelbach e.V":MAILTO:Kontakt@fsvmichelbach.de
END:VEVENT
BEGIN:VEVENT
DTSTART;TZID=Europe/Helsinki:20250704T180000
DTEND;TZID=Europe/Helsinki:20250706T180000
DTSTAMP:20260420T175238
CREATED:20250519T142737Z
LAST-MODIFIED:20250519T142737Z
UID:182-1751652000-1751824800@www.ktzv-michelbach.de
SUMMARY:73. Michelbacher Winzerfest
DESCRIPTION:
URL:https://www.ktzv-michelbach.de/veranstaltungen/73-michelbacher-winzerfest/
ATTACH;FMTTYPE=image/jpeg:https://www.ktzv-michelbach.de/wp-content/uploads/2025/05/cheers.jpg
END:VEVENT
BEGIN:VEVENT
DTSTART;TZID=Europe/Helsinki:20250626T173000
DTEND;TZID=Europe/Helsinki:20250626T210000
DTSTAMP:20260420T175238
CREATED:20250519T135930Z
LAST-MODIFIED:20250519T140233Z
UID:178-1750959000-1750971600@www.ktzv-michelbach.de
SUMMARY:Hinkel Stammtisch @ Wanderheim
DESCRIPTION:Unser Hinkel-Stammtisch findet regelmäßig monatlich statt und bietet eine wunderbare Gelegenheit zum Austausch und geselligen Beisammensein. Eingeladen sind nicht nur unsere Vereinsmitglieder\, sondern auch alle\, die Interesse an einer Mitgliedschaft haben oder einfach einmal reinschnuppern möchten. \nIn entspannter Atmosphäre sprechen wir über alles rund um die Zucht\, unsere Vereinsarbeit und aktuelle Themen\, die uns bewegen. Natürlich kommt auch der persönliche Austausch nicht zu kurz – denn bei einem guten Gespräch entstehen oft die besten Ideen. \nWir freuen uns über jede Teilnahme – ob alt eingesessen oder neu interessiert. Schaut vorbei und werdet Teil unserer Gemeinschaft!
URL:https://www.ktzv-michelbach.de/veranstaltungen/hinkel-stammtisch-wanderheim/
LOCATION:Wanderheim Michelbach Hubert’s Wein- und Wanderstube\, Zum Sandfeld\, Alzenau\, 63755
ATTACH;FMTTYPE=image/png:https://www.ktzv-michelbach.de/wp-content/uploads/2025/05/keep-calm-and-komm-zum-stammtisch-2.png
END:VEVENT
BEGIN:VEVENT
DTSTART;TZID=Europe/Helsinki:20250529T173000
DTEND;TZID=Europe/Helsinki:20250529T210000
DTSTAMP:20260420T175238
CREATED:20250519T132912Z
LAST-MODIFIED:20250519T135250Z
UID:171-1748539800-1748552400@www.ktzv-michelbach.de
SUMMARY:Hinkel Stammtisch @ Zum Hahnenkamm
DESCRIPTION:Unser Hinkel-Stammtisch findet regelmäßig monatlich statt und bietet eine wunderbare Gelegenheit zum Austausch und geselligen Beisammensein. Eingeladen sind nicht nur unsere Vereinsmitglieder\, sondern auch alle\, die Interesse an einer Mitgliedschaft haben oder einfach einmal reinschnuppern möchten. \nIn entspannter Atmosphäre sprechen wir über alles rund um die Zucht\, unsere Vereinsarbeit und aktuelle Themen\, die uns bewegen. Natürlich kommt auch der persönliche Austausch nicht zu kurz – denn bei einem guten Gespräch entstehen oft die besten Ideen. \nWir freuen uns über jede Teilnahme – ob alt eingesessen oder neu interessiert. Schaut vorbei und werdet Teil unserer Gemeinschaft!
URL:https://www.ktzv-michelbach.de/veranstaltungen/hinkel-stammtisch/
LOCATION:Zum Hahnenkamm\, Cornillstraße 5\, Alzenau\, 63755
ATTACH;FMTTYPE=image/png:https://www.ktzv-michelbach.de/wp-content/uploads/2025/05/keep-calm-and-komm-zum-stammtisch-2.png
END:VEVENT
BEGIN:VEVENT
DTSTART;TZID=Europe/Helsinki:20250518T130000
DTEND;TZID=Europe/Helsinki:20250518T210000
DTSTAMP:20260420T175238
CREATED:20250518T093223Z
LAST-MODIFIED:20250518T102335Z
UID:91-1747573200-1747602000@www.ktzv-michelbach.de
SUMMARY:Frühlingsfest Michelbach
DESCRIPTION:
URL:https://www.ktzv-michelbach.de/veranstaltungen/sommerfest/
LOCATION:Schlösschen Michelbach\, Schloßstraße 13\, Alzenau\, Bayern\, 63755\, Germany
ATTACH;FMTTYPE=image/jpeg:https://www.ktzv-michelbach.de/wp-content/uploads/2025/05/Fruehlingsfest-1-768x768-1.jpg
END:VEVENT
BEGIN:VEVENT
DTSTART;TZID=Europe/Helsinki:20250518T130000
DTEND;TZID=Europe/Helsinki:20250518T200000
DTSTAMP:20260420T175238
CREATED:20250518T101046Z
LAST-MODIFIED:20250518T102534Z
UID:116-1747573200-1747598400@www.ktzv-michelbach.de
SUMMARY:Jahrgangspräsentation - Tag der offenen Weinflasche
DESCRIPTION:Am 18. Mai 2025 laden wir Sie von 11.00 – 18.00 Uhr sehr herzlich zur Verkostung der neuen und gereiften Weine in unserem Michelbacher Weingut ein. Der Eintritt in die Verkostungszone beträgt 16 € pro Person. Sollten Sie einfach Lust auf ein Glas Wein haben\, begrüßen wir Sie auf unserer Wiese zum ‚Chill & Grill‘. Für Ihr leibliches Wohl außerhalb der Verkostungszone sorgt dieses Jahr das Paradieschen mit seiner Feldküche und tollen Bioprodukten. Wir freuen uns auf Ihr Kommen! Herzlichst\, Ihre Familie Höfler
URL:https://www.ktzv-michelbach.de/veranstaltungen/jahrgangspraesentation-tag-der-offenen-weinflasche/
LOCATION:Weingut Höfler\, Albstädter Straße 1\, Alzenau\, 63755
ATTACH;FMTTYPE=image/jpeg:https://www.ktzv-michelbach.de/wp-content/uploads/2025/05/cheers.jpg
END:VEVENT
END:VCALENDAR